BEGIN:VCALENDAR
VERSION:2.0
PRODID:-//Library Market//iCal Export//EN
BEGIN:VEVENT
SUMMARY:Puzzle Swap
UID:14167
DTSTAMP:20260419T132100Z
DTSTART:20261106T010000Z
DTEND:20261106T030000Z
LOCATION:58 N. State Street, Orem, UT 84057, United States
ROOM: Library Hall - dōTERRA South Lobby
DESCRIPTION:Update your puzzle collection in time for the holidays! Drop o
 ff any gently-used and complete puzzles between October 28-November 4 at t
 he Media Desk or bring your puzzles to the swap on November 5 to receive t
 ickets for new puzzles.Doors will open for ticket holders at 6 PM and for 
 everyone else at 7 PM.
URL:https://orem.librarycalendar.com/event/puzzle-swap-14167
END:VEVENT
END:VCALENDAR
