BEGIN:VCALENDAR
VERSION:2.0
PRODID:-//Library Market//iCal Export//EN
BEGIN:VEVENT
SUMMARY:Big Kids Storytime
UID:14342
DTSTAMP:20260420T013200Z
DTSTART:20260617T220000Z
DTEND:20260617T230000Z
LOCATION:635 E 1400 S, Orem, UT 84097, United States
ROOM: Hillcrest Park Center
DESCRIPTION:Big Kid Adventures is a 1-hour storytime for big kids and thei
 r caregivers held on the 3rd Wednesday of the month. While focusing on lit
 eracy, we will make discoveries through fun activities grounded in movemen
 t and/or STEAM.  For grades K–2. Registration is required.For Orem City
 ’s privacy policy, please click here.
URL:https://orem.librarycalendar.com/event/big-kids-storytime-14342
END:VEVENT
END:VCALENDAR
