BEGIN:VCALENDAR
VERSION:2.0
PRODID:-//Library Market//iCal Export//EN
BEGIN:VEVENT
SUMMARY:Kids’ Shorts
UID:14381
DTSTAMP:20260420T013200Z
DTSTART:20260513T170000Z
DTEND:20260513T174500Z
LOCATION:58 N State St, Orem, UT 84057, United States
ROOM: Media Auditorium
DESCRIPTION:Looking for some morning fun while storytime is on break? Join
  us in the Media Auditorium every Tuesday and Wednesday in May for a fun v
 ariety of kids&#039; short films!
URL:https://orem.librarycalendar.com/event/kids-short-films-14381
END:VEVENT
END:VCALENDAR
