BEGIN:VCALENDAR
VERSION:2.0
PRODID:-//Library Market//iCal Export//EN
BEGIN:VEVENT
SUMMARY:Studio Ghibli Night
UID:14397
DTSTAMP:20260420T013200Z
DTSTART:20261019T230000Z
DTEND:20261020T020000Z
LOCATION:58 N. State Street, Orem, UT 84057, United States
ROOM: Library Hall - dōTERRA South Lobby
DESCRIPTION:Calling all soot sprites and forest spirits! Come explore the 
 magic of anime at our Studio Ghibli night. Stretch your creative muscles w
 ith hands-on crafts during our 5 PM activity hour and be sure to stick aro
 und for a screening of Kiki’s Delivery Service (G, 1989), starting at 
 6 PM. Film runtime: 1 hr 43 min. This event is free and for all ages. 
URL:https://orem.librarycalendar.com/event/studio-ghibli-night-14397
END:VEVENT
END:VCALENDAR
