BEGIN:VCALENDAR
VERSION:2.0
PRODID:-//Library Market//iCal Export//EN
BEGIN:VEVENT
SUMMARY:Makerspace Workshop: Custom Holiday Ornament Buttons
UID:8045
DTSTAMP:20260420T054200Z
DTSTART:20251118T020000Z
DTEND:20251118T033000Z
LOCATION:
DESCRIPTION:Get festive and creative with the Orem Library Makerspace! In 
 this hands-on workshop, patrons can use our button machines to craft five 
 custom 2.25&quot; round button keychains—perfect for converting into uni
 que holiday ornaments. Bring your own 2.5&quot; printed images, or let Mak
 erspace staff help you design and print during the session (bring digital 
 copies of the images you would like to print.) You’ll learn how to assem
 ble the buttons so you can return anytime to make more.For ages 8+. Childr
 en must be accompanied by a caregiver. Registration required.For Orem City
 ’s privacy policy, please click here.
URL:https://orem.librarycalendar.com/event/makerspace-workshop-custom-holi
 day-ornament-buttons-8045
END:VEVENT
END:VCALENDAR
